BEGIN:VCALENDAR
PRODID://WordPress//Event-Post-V5.9.2//EN
VERSION:2.0
BEGIN:VEVENT
SUMMARY:Observation publique du Soleil
UID:https://aaaov.fr/events/observation-publique-soleil-10-05-26/
LOCATION:
DTSTAMP:20260510T110000Z
DTSTART:20260510T110000Z
DTEND:20260510T153000Z
DESCRIPTION:​Rejoignez-nous pour une journée d'observation solaire unique !
Accompagnés par nos animateurs passionnés, explorez le Soleil en toute
sécurité grâce à nos instruments de précision. Venez admirer ses
impressionnantes protubérances et ses taches solaires comme vous ne les
avez jamais vues. 🔭
END:VEVENT
END:VCALENDAR